BEGIN:VCALENDAR
PRODID:-//kirchenweb.ch gmbh//veranstaltungsausgabe v2.0//DE
VERSION:2.0
METHOD:PUBLISH
BEGIN:VEVENT
DTSTART:20251129T123000Z
DTEND:20251129T170000Z
LOCATION:Kirche Zumikon\, Unterdorfstrasse 4\, 8126 Zumikon
TRANSP:OPAQUE
SEQUENCE:0
UID:62233-veranstaltung@ref-zozu.ch
DTSTAMP:20251226T181349Z
DESCRIPTION:Kontakt: Herr Moritz Baltzer\nFarliganstrasse 30\, Zumikon
 \nTel: 044 209 98 01\n\nWeitere Infos:
  https://www.ref-zozu.ch/veranstaltung/62233
SUMMARY:Mehrgenerationen Konzert der Musikschule Zumikon
PRIORITY:5
X-MICROSOFT-CDO-IMPORTANCE:1
CLASS:PUBLIC
END:VEVENT
END:VCALENDAR
