BEGIN:VCALENDAR
PRODID:-//kirchenweb.ch gmbh//veranstaltungsausgabe v2.0//DE
VERSION:2.0
METHOD:PUBLISH
BEGIN:VEVENT
DTSTART:20251113T133000Z
DTEND:20251113T160000Z
LOCATION:Kirchgemeindehaus Zollikon\, Rösslirain 2\, 8702 Zollikon
TRANSP:OPAQUE
SEQUENCE:0
UID:62524-veranstaltung@ref-zozu.ch
DTSTAMP:20251025T082947Z
DESCRIPTION:Monika Kienast lädt ein auf Spaziergänge an den See\, die
  Limmat\, die Sihl\, den Schanzengraben und zu Stadtbächen.\n\n\nKontakt:
  Peter Lissa\n\nWeitere Infos: https://www.ref-zozu.ch/veranstaltung/62524
SUMMARY:60plus Nachmittag «Ein Spaziergang mit Bildern durch Zürich am
  Wasser»
PRIORITY:5
X-MICROSOFT-CDO-IMPORTANCE:1
CLASS:PUBLIC
END:VEVENT
END:VCALENDAR
