BEGIN:VCALENDAR
PRODID:-//kirchenweb.ch gmbh//veranstaltungsausgabe v2.0//DE
VERSION:2.0
METHOD:PUBLISH
BEGIN:VEVENT
DTSTART:20251211T133000Z
DTEND:20251211T160000Z
LOCATION:Gemeinschaftszentrum Zumikon\, Dorfplatz 11\, 8126 Zumikon
TRANSP:OPAQUE
SEQUENCE:0
UID:62529-veranstaltung@ref-zozu.ch
DTSTAMP:20251111T054459Z
DESCRIPTION:In der Kirche Zumikon beginnt die Adventsfeier zum Thema
  «Menschenschönheit» mit Pfarrerin\nAdelheid Jewanski und der
  Schulklasse von Barbara Leemann und Joel Muhl. \nAnschliessend wird es
  ein Nachtessen mit grossem Dessertbuffet des Frauenverein Zumikon im
  Kirchgemeindesaal Zumikon geben.\n\nAnmeldungen bis zum 8. Dezember 2025
  an die Gastgeberin Armanda Danioth\, 079 820 01 33 oder
 \narmanda.danioth@ref-zozu.ch.\n\nKontakt: Armanda Danioth\n\nWeitere
  Infos: https://www.ref-zozu.ch/veranstaltung/62529
SUMMARY:60plus Nachmittag - Adventsfeier in Zumikon
PRIORITY:5
X-MICROSOFT-CDO-IMPORTANCE:1
CLASS:PUBLIC
END:VEVENT
END:VCALENDAR
