BEGIN:VCALENDAR
PRODID:-//kirchenweb.ch gmbh//veranstaltungsausgabe v2.0//DE
VERSION:2.0
METHOD:PUBLISH
BEGIN:VEVENT
DTSTART:20251130T170000Z
DTEND:20251130T180000Z
LOCATION:Kirche Zollikon\, Rösslirain 2\, 8702 Zollikon
TRANSP:OPAQUE
SEQUENCE:0
UID:62739-veranstaltung@ref-zozu.ch
DTSTAMP:20251111T054000Z
DESCRIPTION:Felix Mendelssohn Bartholdy «Vom Himmel hoch»\, «Die Geburt
  Christi»\, «Verleih uns Frieden gnädiglich»\, «Magnificat in D»\,
  Violinkonzert Andante.\n&nbsp;\nMuriel Schwarz (Sopran)\, Sascha Litschi
  (Bass)\, Jonathan Allen (Solo-Violine & Konzertmeister).\nSänger:innen
  des Chorprojektes 2025; Orchester Adventus und Jasmine Vollmer
  (musikalische Leitung & Dirigentin).\n&nbsp;\nTüröffnung eine halbe
  Stunde vor Konzertbeginn. \nEintritt frei\, Kollekte.\n\nKontakt: Jasmine
  Vollmer\n\nWeitere Infos: https://www.ref-zozu.ch/veranstaltung/62739
SUMMARY:Advents-Chorprojekt-Konzert 2025 Zollikon
PRIORITY:5
X-MICROSOFT-CDO-IMPORTANCE:1
CLASS:PUBLIC
END:VEVENT
END:VCALENDAR
