BEGIN:VCALENDAR
PRODID:-//kirchenweb.ch gmbh//veranstaltungsausgabe v2.0//DE
VERSION:2.0
METHOD:PUBLISH
BEGIN:VEVENT
DTSTART:20251129T171500Z
DTEND:20251129T181500Z
LOCATION:Kirche Zollikon\, Rösslirain 2\, 8702 Zollikon
TRANSP:OPAQUE
SEQUENCE:0
UID:62821-veranstaltung@ref-zozu.ch
DTSTAMP:20251124T063055Z
DESCRIPTION:anschliessend Brot\, Wein oder Saft\n\nChilebus\n17:50 -
  Zumikon\, Prima\n18:00 - Zollikerberg\, Hohfurenstr. 1\n18:10 -
  Zollikon\, Parkplatz alte Landstr. 76\nRückfahrt 20.00 Uhr\n\nKontakt:
  Adelheid Jewanski\n\nWeitere Infos:
  https://www.ref-zozu.ch/veranstaltung/62821
SUMMARY:Licht & Klang-Abendfeier «Farinellis Reise zu den Sternen»
PRIORITY:5
X-MICROSOFT-CDO-IMPORTANCE:1
CLASS:PUBLIC
END:VEVENT
END:VCALENDAR
