BEGIN:VCALENDAR
PRODID:-//kirchenweb.ch gmbh//veranstaltungsausgabe v2.0//DE
VERSION:2.0
METHOD:PUBLISH
BEGIN:VEVENT
DTSTART:20251116T091500Z
DTEND:20251116T101500Z
LOCATION:Kirche Zumikon\, Unterdorfstrasse 4\, 8126 Zumikon
TRANSP:OPAQUE
SEQUENCE:0
UID:62831-veranstaltung@ref-zozu.ch
DTSTAMP:20251110T102835Z
DESCRIPTION:Chilebus:\n09.50 - Zollikon\, Parkplatz alte Landstr. 76
 \n10.00 - Zollikerberg\, Hohfurenstrasse 1\n10.10 - Zumikon\, Prima
 \nRückfahrt 11.45 Uhr\n\n\nKontakt: Adelheid Jewanski\n\nWeitere Infos:
  https://www.ref-zozu.ch/veranstaltung/62831
SUMMARY:Gottesdienst
PRIORITY:5
X-MICROSOFT-CDO-IMPORTANCE:1
CLASS:PUBLIC
END:VEVENT
END:VCALENDAR
