BEGIN:VCALENDAR
PRODID:-//kirchenweb.ch gmbh//veranstaltungsausgabe v2.0//DE
VERSION:2.0
METHOD:PUBLISH
BEGIN:VEVENT
DTSTART:20251130T083000Z
DTEND:20251130T093000Z
LOCATION:Gemeinschaftszentrum Zumikon\, Dorfplatz 11\, 8126 Zumikon
TRANSP:OPAQUE
SEQUENCE:0
UID:62843-veranstaltung@ref-zozu.ch
DTSTAMP:20251125T161010Z
DESCRIPTION:mit Advent Zmorge im Kirchgemeindesaal\n(Achtung! Es findet
  wie jedes Jahr in Zumikon statt \n- im reformiert.regional hat sich ein
  Fehler eingeschlichen)\n\nKontakt: Diana Päpcke\n\nWeitere Infos:
  https://www.ref-zozu.ch/veranstaltung/62843
SUMMARY:Familiengottesdienst mit Adventszmorge
PRIORITY:5
X-MICROSOFT-CDO-IMPORTANCE:1
CLASS:PUBLIC
END:VEVENT
END:VCALENDAR
