BEGIN:VCALENDAR
PRODID:-//kirchenweb.ch gmbh//veranstaltungsausgabe v2.0//DE
VERSION:2.0
METHOD:PUBLISH
BEGIN:VEVENT
DTSTART:20251231T160000Z
DTEND:20251231T170000Z
LOCATION:Kirche Zollikon\, Rösslirain 2\, 8702 Zollikon
TRANSP:OPAQUE
SEQUENCE:0
UID:62849-veranstaltung@ref-zozu.ch
DTSTAMP:20251209T065830Z
DESCRIPTION:Pfarrerin Diana Päpcke liest aus Lyrik und Prosa\nEintritt
  frei – Kollekte | Dauer ca. 70 min.\nanschliessen kleiner Apéro\n
 \nKontakt: Diana Päpcke\n\nWeitere Infos:
  https://www.ref-zozu.ch/veranstaltung/62849
SUMMARY:Silvesterkonzert mit Lesung
PRIORITY:5
X-MICROSOFT-CDO-IMPORTANCE:1
CLASS:PUBLIC
END:VEVENT
END:VCALENDAR
