BEGIN:VCALENDAR
PRODID:-//kirchenweb.ch gmbh//veranstaltungsausgabe v2.0//DE
VERSION:2.0
METHOD:PUBLISH
BEGIN:VEVENT
DTSTART:20251123T091500Z
DTEND:20251123T101500Z
LOCATION:Kirche Zollikerberg\, Hohfurenstr. 1\, 8125 Zollikerberg
TRANSP:OPAQUE
SEQUENCE:0
UID:62864-veranstaltung@ref-zozu.ch
DTSTAMP:20251113T063427Z
DESCRIPTION:anschliessend Apéro\n\n\nKontakt: Martin Günthardt\, Simon
  Gebs\, Diana Päpcke und Adelheid Jewanski\n\nWeitere Infos:
  https://www.ref-zozu.ch/veranstaltung/62864
SUMMARY:Ewigkeitssonntag-Gottesdienst
PRIORITY:5
X-MICROSOFT-CDO-IMPORTANCE:1
CLASS:PUBLIC
END:VEVENT
END:VCALENDAR
