BEGIN:VCALENDAR
PRODID:-//kirchenweb.ch gmbh//veranstaltungsausgabe v2.0//DE
VERSION:2.0
METHOD:PUBLISH
BEGIN:VEVENT
DTSTART:20251121T080000Z
DTEND:20251121T100000Z
LOCATION:Kirchgemeindehaus Zollikerberg\, Hohfurenstr. 1\, 8125
  Zollikerberg
TRANSP:OPAQUE
SEQUENCE:0
UID:63346-veranstaltung@ref-zozu.ch
DTSTAMP:20250708T154635Z
DESCRIPTION:Freie Gruppenwahl\n9.00 - 9.30 Gruppe 1\n9.45 - 10.15 Gruppe 2
 \n10.20 -10.50 Gruppe 3 (neu ab 5.9.2025)\nAlle Kinder von 0 bis 5 sind
  willkommen.\n\nAuf Ihre Teilnahme freut sich:\nKarin Schäpper\,
  karin.schaepper@ref-zozu.ch\n\n\nKontakt: Karin Schaepper\n\n\nWeitere
  Infos: https://www.ref-zozu.ch/veranstaltung/63346
SUMMARY:Atelier mit de Chliine
PRIORITY:5
X-MICROSOFT-CDO-IMPORTANCE:1
CLASS:PUBLIC
END:VEVENT
END:VCALENDAR
