BEGIN:VCALENDAR
PRODID:-//kirchenweb.ch gmbh//veranstaltungsausgabe v2.0//DE
VERSION:2.0
METHOD:PUBLISH
BEGIN:VEVENT
DTSTART:20251128T080000Z
DTEND:20251128T100000Z
LOCATION:Kirchgemeindehaus Zollikerberg\, Hohfurenstr. 1\, 8125
  Zollikerberg
TRANSP:OPAQUE
SEQUENCE:0
UID:63347-veranstaltung@ref-zozu.ch
DTSTAMP:20251010T094434Z
DESCRIPTION:Freie Gruppenwahl\n9.00- 9.30 Gruppe 1\n9.45 - 10.15 Gruppe 2
 \n10.20-10.50 Gruppe 3\nAlle Kinder von 0 bis 5 sind willkommen.\n\nAuf
  Ihre Teilnahme freut sich:\nKarin Schäpper\, karin.schaepper@ref-zozu.ch
 \n\n\nKontakt: Karin Schaepper\n\n\nWeitere Infos:
  https://www.ref-zozu.ch/veranstaltung/63347
SUMMARY:Atelier mit de Chliine
PRIORITY:5
X-MICROSOFT-CDO-IMPORTANCE:1
CLASS:PUBLIC
END:VEVENT
END:VCALENDAR
