BEGIN:VCALENDAR
PRODID:-//kirchenweb.ch gmbh//veranstaltungsausgabe v2.0//DE
VERSION:2.0
METHOD:PUBLISH
BEGIN:VEVENT
DTSTART:20251113T075500Z
DTEND:20251113T100000Z
LOCATION:Kirche Zollikerberg\, Hohfurenstr. 1\, 8125 Zollikerberg
TRANSP:OPAQUE
SEQUENCE:0
UID:63383-veranstaltung@ref-zozu.ch
DTSTAMP:20251006T145350Z
DESCRIPTION:Freie Gruppenwahl\n08.55 - 9.25 Gruppe 1\n9.30 - 10.00 Gruppe
  2\n10.05 -10.35 Gruppe 3 (neu ab 5.9.2025)\nAlle Kinder von 0 bis 5 sind
  willkommen.\nGeselliges Beisammensein für alle im Café am Puls\n\nAuf
  Ihre Teilnahme freut sich:\nJasmine Vollmer\, jasmine.vollmer@ref-zozu.ch
 \n\n\nKontakt: Jasmine Vollmer\n\nWeitere Infos:
  https://www.ref-zozu.ch/veranstaltung/63383
SUMMARY:Singe mit de Chliine
PRIORITY:5
X-MICROSOFT-CDO-IMPORTANCE:1
CLASS:PUBLIC
END:VEVENT
END:VCALENDAR
