BEGIN:VCALENDAR
PRODID:-//kirchenweb.ch gmbh//veranstaltungsausgabe v2.0//DE
VERSION:2.0
METHOD:PUBLISH
BEGIN:VEVENT
DTSTART:20250905T140000Z
DTEND:20250905T180000Z
LOCATION:Kirchgemeindehaus Zollikerberg\, Hohfurenstr. 1\, 8125
  Zollikerberg
TRANSP:OPAQUE
SEQUENCE:0
UID:63417-veranstaltung@ref-zozu.ch
DTSTAMP:20250825T111154Z
DESCRIPTION:Kontakt: Jennifer Rota\nGaby Schibler\nSusanne Schnitzler\n
 \nWeitere Infos: https://www.ref-zozu.ch/veranstaltung/63417
SUMMARY:Club 4_Einstiegsblock
PRIORITY:5
X-MICROSOFT-CDO-IMPORTANCE:1
CLASS:PUBLIC
END:VEVENT
END:VCALENDAR
