BEGIN:VCALENDAR
PRODID:-//kirchenweb.ch gmbh//veranstaltungsausgabe v2.0//DE
VERSION:2.0
METHOD:PUBLISH
BEGIN:VEVENT
DTSTART:20251110T110000Z
DTEND:20251110T121500Z
LOCATION:Kirchgemeindehaus Zollikon\, Rösslirain 2\, 8702 Zollikon
TRANSP:OPAQUE
SEQUENCE:0
UID:63445-veranstaltung@ref-zozu.ch
DTSTAMP:20251006T144458Z
DESCRIPTION:Kontakt: Jennifer Rota\n\nWeitere Infos:
  https://www.ref-zozu.ch/veranstaltung/63445
SUMMARY:3.Klass-Unti_Zollikon_montags
PRIORITY:5
X-MICROSOFT-CDO-IMPORTANCE:1
CLASS:PUBLIC
END:VEVENT
END:VCALENDAR
