BEGIN:VCALENDAR
PRODID:-//kirchenweb.ch gmbh//veranstaltungsausgabe v2.0//DE
VERSION:2.0
METHOD:PUBLISH
BEGIN:VEVENT
DTSTART:20260224T110000Z
DTEND:20260224T123000Z
LOCATION:Gemeinschaftszentrum Zumikon\, Dorfplatz 11\, 8126 Zumikon
TRANSP:OPAQUE
SEQUENCE:0
UID:63484-veranstaltung@ref-zozu.ch
DTSTAMP:20260209T094745Z
DESCRIPTION:Kontakt: Susanne Schnitzler\n\nWeitere Infos:
  https://www.ref-zozu.ch/veranstaltung/63484
SUMMARY:Minichile_Zu
PRIORITY:5
X-MICROSOFT-CDO-IMPORTANCE:1
CLASS:PUBLIC
END:VEVENT
END:VCALENDAR
