BEGIN:VCALENDAR
PRODID:-//kirchenweb.ch gmbh//veranstaltungsausgabe v2.0//DE
VERSION:2.0
METHOD:PUBLISH
BEGIN:VEVENT
DTSTART:20260602T100000Z
DTEND:20260602T113000Z
LOCATION:Gemeinschaftszentrum Zumikon\, Dorfplatz 11\, 8126 Zumikon
TRANSP:OPAQUE
SEQUENCE:0
UID:63496-veranstaltung@ref-zozu.ch
DTSTAMP:20240924T165457Z
DESCRIPTION:Kontakt: Susanne Schnitzler\n\nWeitere Infos:
  https://www.ref-zozu.ch/veranstaltung/63496
SUMMARY:Minichile_Zu
PRIORITY:5
X-MICROSOFT-CDO-IMPORTANCE:1
CLASS:PUBLIC
END:VEVENT
END:VCALENDAR
