BEGIN:VCALENDAR
PRODID:-//kirchenweb.ch gmbh//veranstaltungsausgabe v2.0//DE
VERSION:2.0
METHOD:PUBLISH
BEGIN:VEVENT
DTSTART:20260528T100000Z
DTEND:20260528T111500Z
LOCATION:Kirchgemeindehaus Zollikerberg\, Hohfurenstr. 1\, 8125
  Zollikerberg
TRANSP:OPAQUE
SEQUENCE:0
UID:63599-veranstaltung@ref-zozu.ch
DTSTAMP:20260424T093344Z
DESCRIPTION:Kontakt: Gaby Schibler\n\nWeitere Infos:
  https://www.ref-zozu.ch/veranstaltung/63599
SUMMARY:3. Klass-Unti_Berg
PRIORITY:5
X-MICROSOFT-CDO-IMPORTANCE:1
CLASS:PUBLIC
END:VEVENT
END:VCALENDAR
