BEGIN:VCALENDAR
PRODID:-//kirchenweb.ch gmbh//veranstaltungsausgabe v2.0//DE
VERSION:2.0
METHOD:PUBLISH
BEGIN:VEVENT
DTSTART:20251214T101500Z
DTEND:20251214T111500Z
LOCATION:Gemeinschaftszentrum Zumikon\, Dorfplatz 11\, 8126 Zumikon
TRANSP:OPAQUE
SEQUENCE:0
UID:63607-veranstaltung@ref-zozu.ch
DTSTAMP:20251023T142613Z
DESCRIPTION:Nach dem Gottesdienst anschliessend Apéro\n\nDer Bus für den
  Gottesdienst fährt um 12.45 Uhr wieder zurück.\n\nKontakt: Marianna
  Schmuki\n\nWeitere Infos: https://www.ref-zozu.ch/veranstaltung/63607
SUMMARY:Kirchgemeindeversammlung
PRIORITY:5
X-MICROSOFT-CDO-IMPORTANCE:1
CLASS:PUBLIC
END:VEVENT
END:VCALENDAR
