BEGIN:VCALENDAR
PRODID:-//kirchenweb.ch gmbh//veranstaltungsausgabe v2.0//DE
VERSION:2.0
METHOD:PUBLISH
BEGIN:VEVENT
DTSTART:20251120T170000Z
DTEND:20251120T180000Z
LOCATION:Kirche Zumikon\, Unterdorfstrasse 4\, 8126 Zumikon
TRANSP:OPAQUE
SEQUENCE:0
UID:63875-veranstaltung@ref-zozu.ch
DTSTAMP:20251204T153035Z
DESCRIPTION:Entdecken Sie in dieser Feierabendmusik die faszinierende Welt
  des Fagott (Artan \nHürsever). Viel zu selten stehen die Instru-mente
  der tieferen Register solistisch in der Konzertlandschaft im Vordergrund.
  So ist es an der Zeit\, auch dem tiefen Instrument der Holzbläser eine
  eigene Feierabendmusik zu widmen. Virtuose Werke aus der Barockzeit von
  Vivaldi oder Telemann\, zeitlose klassi-sche und romantische Stücke von
  Mozart\, Schubert oder Mendelssohn werden auf dem Programm stehen und
  abrunden werden den Abend impressionistische Klänge von Claude Debussy. 
 \nLassen Sie sich von der warmen\, ausdrucksvollen Stimme des Fagott
  verzaubern!\n\n\nKontakt: Jasmine Vollmer\n\nWeitere Infos:
  https://www.ref-zozu.ch/veranstaltung/63875
SUMMARY:Feierabend-Musik «Fagott»
PRIORITY:5
X-MICROSOFT-CDO-IMPORTANCE:1
CLASS:PUBLIC
END:VEVENT
END:VCALENDAR
