BEGIN:VCALENDAR
PRODID:-//kirchenweb.ch gmbh//veranstaltungsausgabe v2.0//DE
VERSION:2.0
METHOD:PUBLISH
BEGIN:VEVENT
DTSTART:20251219T170000Z
DTEND:20251219T180000Z
LOCATION:Kirche Zumikon\, Unterdorfstrasse 4\, 8126 Zumikon
TRANSP:OPAQUE
SEQUENCE:0
UID:63877-veranstaltung@ref-zozu.ch
DTSTAMP:20251113T051824Z
DESCRIPTION:Die Feierabend-Musik findet ausnahmsweise am Freitag\,
  19.12.2025\, statt.\nGesang\, Flöte\, Harfe und Orgel sind Klänge\, die
  seit jeher zur Weihnachtszeit gehören. Das Programm wird von klassischen
  Weihnachtsarien\, stimmungsvollen Weihnachtsliedern aus aller Welt bis zu
  beschwingten Christmas Songs reichen. Jacqueline Oesch (Sopran &
  Querflöte)\, Sascha Litschi (Bass) und Jasmine Vollmer (Harfe\, Orgel &
  Flügel) werden für ein abwechslungsreiches und beschwingtes Konzert 
  mit  viel  Emotionen  sorgen.\n\nKontakt: Jasmine Vollmer\n\nWeitere
  Infos: https://www.ref-zozu.ch/veranstaltung/63877
SUMMARY:Feierabend-Musik «Es weihnachtet sehr»
PRIORITY:5
X-MICROSOFT-CDO-IMPORTANCE:1
CLASS:PUBLIC
END:VEVENT
END:VCALENDAR
