BEGIN:VCALENDAR
PRODID:-//kirchenweb.ch gmbh//veranstaltungsausgabe v2.0//DE
VERSION:2.0
METHOD:PUBLISH
BEGIN:VEVENT
DTSTART:20260712T083000Z
DTEND:20260712T093000Z
LOCATION:Kirche Zollikon\, Rösslirain 2\, 8702 Zollikon
TRANSP:OPAQUE
SEQUENCE:0
UID:64028-veranstaltung@ref-zozu.ch
DTSTAMP:20260212T130849Z
DESCRIPTION:anschliessend Apéro\n\nChilebus:\n10:00 - Zumikon\, Prima
 \n10:05 - Zumikon\, Bushaltestelle Waltikon\n10:10 - Zollikerberg\,
  Hohfurenstr. 1\n10:20 - Zollikon\, Parkplatz alte Landstr. 76\nRückfahrt
  12:30 Uhr ab Aussteigeort:\n\nKontakt: Simon Gebs\n\nWeitere Infos:
  https://www.ref-zozu.ch/veranstaltung/64028
SUMMARY:Sommerkirche regional in Zollikon
PRIORITY:5
X-MICROSOFT-CDO-IMPORTANCE:1
CLASS:PUBLIC
END:VEVENT
END:VCALENDAR
