BEGIN:VCALENDAR
PRODID:-//kirchenweb.ch gmbh//veranstaltungsausgabe v2.0//DE
VERSION:2.0
METHOD:PUBLISH
BEGIN:VEVENT
DTSTART:20251124T123000Z
DTEND:20251124T153000Z
LOCATION:Kirchgemeindehaus Zollikon Dorf\, Rösslirain 2\, 8702 Zollikon
TRANSP:OPAQUE
SEQUENCE:0
UID:64098-veranstaltung@ref-zozu.ch
DTSTAMP:20251008T113707Z
DESCRIPTION:Jassen\n\nKontakt: Marianne Tanner\, 044 391 99 35\n\nWeitere
  Infos: https://www.ref-zozu.ch/veranstaltung/64098
SUMMARY:Jassnachmittag
PRIORITY:5
X-MICROSOFT-CDO-IMPORTANCE:1
CLASS:PUBLIC
END:VEVENT
END:VCALENDAR
