BEGIN:VCALENDAR
PRODID:-//kirchenweb.ch gmbh//veranstaltungsausgabe v2.0//DE
VERSION:2.0
METHOD:PUBLISH
BEGIN:VEVENT
DTSTART:20251124T123000Z
DTEND:20251124T160000Z
LOCATION:Gemeinschaftszentrum Zumikon\, Dorfplatz 11\, 8126 Zumikon
TRANSP:OPAQUE
SEQUENCE:0
UID:64140-veranstaltung@ref-zozu.ch
DTSTAMP:20251008T113647Z
DESCRIPTION:Kontakt: Armanda Danioth\n\nWeitere Infos:
  https://www.ref-zozu.ch/veranstaltung/64140
SUMMARY:Jassgruppe
PRIORITY:5
X-MICROSOFT-CDO-IMPORTANCE:1
CLASS:PUBLIC
END:VEVENT
END:VCALENDAR
