BEGIN:VCALENDAR
PRODID:-//kirchenweb.ch gmbh//veranstaltungsausgabe v2.0//DE
VERSION:2.0
METHOD:PUBLISH
BEGIN:VEVENT
DTSTART:20251111T143000Z
DTEND:20251111T151500Z
LOCATION:Kirchgemeindehaus Zollikon\, Rösslirain 2\, 8702 Zollikon
TRANSP:OPAQUE
SEQUENCE:0
UID:64471-veranstaltung@ref-zozu.ch
DTSTAMP:20251006T144844Z
DESCRIPTION:Kontakt: Jennifer Rota\n\nWeitere Infos:
  https://www.ref-zozu.ch/veranstaltung/64471
SUMMARY:Minichile_Zollikon_wöchentlich
PRIORITY:5
X-MICROSOFT-CDO-IMPORTANCE:1
CLASS:PUBLIC
END:VEVENT
END:VCALENDAR
