BEGIN:VCALENDAR
PRODID:-//kirchenweb.ch gmbh//veranstaltungsausgabe v2.0//DE
VERSION:2.0
METHOD:PUBLISH
BEGIN:VEVENT
DTSTART:20260616T133000Z
DTEND:20260616T141500Z
LOCATION:Kirchgemeindehaus Zollikon\, Rösslirain 2\, 8702 Zollikon
TRANSP:OPAQUE
SEQUENCE:0
UID:64496-veranstaltung@ref-zozu.ch
DTSTAMP:20250122T074728Z
DESCRIPTION:Kontakt: \nJennifer Rota\n\nWeitere Infos:
  https://www.ref-zozu.ch/veranstaltung/64496
SUMMARY:Minichile_Zollikon_wöchentlich
PRIORITY:5
X-MICROSOFT-CDO-IMPORTANCE:1
CLASS:PUBLIC
END:VEVENT
END:VCALENDAR
