BEGIN:VCALENDAR
PRODID:-//kirchenweb.ch gmbh//veranstaltungsausgabe v2.0//DE
VERSION:2.0
METHOD:PUBLISH
BEGIN:VEVENT
DTSTART:20260610T100000Z
DTEND:20260610T123000Z
LOCATION:Kirchgemeindehaus Zollikerberg\, Hohfurenstr. 1\, 8125
  Zollikerberg
TRANSP:OPAQUE
SEQUENCE:0
UID:64597-veranstaltung@ref-zozu.ch
DTSTAMP:20250225T135628Z
DESCRIPTION:Kontakt: Gaby Schibler\n\nWeitere Infos:
  https://www.ref-zozu.ch/veranstaltung/64597
SUMMARY:Minichile_Berg
PRIORITY:5
X-MICROSOFT-CDO-IMPORTANCE:1
CLASS:PUBLIC
END:VEVENT
END:VCALENDAR
