BEGIN:VCALENDAR
PRODID:-//kirchenweb.ch gmbh//veranstaltungsausgabe v2.0//DE
VERSION:2.0
METHOD:PUBLISH
BEGIN:VEVENT
DTSTART:20260107T110000Z
DTEND:20260107T133000Z
LOCATION:Kirchgemeindehaus Zollikon\, Rösslirain 2\, 8702 Zollikon
TRANSP:OPAQUE
SEQUENCE:0
UID:64600-veranstaltung@ref-zozu.ch
DTSTAMP:20251201T160803Z
DESCRIPTION:Kontakt: Gaby Schibler\n\nWeitere Infos:
  https://www.ref-zozu.ch/veranstaltung/64600
SUMMARY:Minichile_Dorf
PRIORITY:5
X-MICROSOFT-CDO-IMPORTANCE:1
CLASS:PUBLIC
END:VEVENT
END:VCALENDAR
