BEGIN:VCALENDAR
PRODID:-//kirchenweb.ch gmbh//veranstaltungsausgabe v2.0//DE
VERSION:2.0
METHOD:PUBLISH
BEGIN:VEVENT
DTSTART:20260617T100000Z
DTEND:20260617T123000Z
LOCATION:Kirchgemeindehaus Zollikon\, Rösslirain 2\, 8702 Zollikon
TRANSP:OPAQUE
SEQUENCE:0
UID:64607-veranstaltung@ref-zozu.ch
DTSTAMP:20250225T141350Z
DESCRIPTION:Kontakt: Gaby Schibler\n\nWeitere Infos:
  https://www.ref-zozu.ch/veranstaltung/64607
SUMMARY:Minichile_Dorf
PRIORITY:5
X-MICROSOFT-CDO-IMPORTANCE:1
CLASS:PUBLIC
END:VEVENT
END:VCALENDAR
