BEGIN:VCALENDAR
PRODID:-//kirchenweb.ch gmbh//veranstaltungsausgabe v2.0//DE
VERSION:2.0
METHOD:PUBLISH
BEGIN:VEVENT
DTSTART:20260508T140000Z
DTEND:20260508T180000Z
LOCATION:Kirchgemeindehaus Zollikon\, Rösslirain 2\, 8702 Zollikon
TRANSP:OPAQUE
SEQUENCE:0
UID:64615-veranstaltung@ref-zozu.ch
DTSTAMP:20260424T085657Z
DESCRIPTION:Kontakt: Jennifer Rota\nGaby Schibler\n\nWeitere Infos:
  https://www.ref-zozu.ch/veranstaltung/64615
SUMMARY:Club 4_Block 5
PRIORITY:5
X-MICROSOFT-CDO-IMPORTANCE:1
CLASS:PUBLIC
END:VEVENT
END:VCALENDAR
