BEGIN:VCALENDAR
PRODID:-//kirchenweb.ch gmbh//veranstaltungsausgabe v2.0//DE
VERSION:2.0
METHOD:PUBLISH
BEGIN:VEVENT
DTSTART:20260329T081500Z
DTEND:20260329T091500Z
LOCATION:Kirche Zollikerberg\, Hohfurenstr. 1\, 8125 Zollikerberg
TRANSP:OPAQUE
SEQUENCE:0
UID:64622-veranstaltung@ref-zozu.ch
DTSTAMP:20260316T090944Z
DESCRIPTION:ab 9.00 Frühstück\n\nKontakt: Jennifer Rota\n\nWeitere
  Infos: https://www.ref-zozu.ch/veranstaltung/64622
SUMMARY:Abendmahlsgottesdienst mit 3. Klass-Unti Kindern
PRIORITY:5
X-MICROSOFT-CDO-IMPORTANCE:1
CLASS:PUBLIC
END:VEVENT
END:VCALENDAR
