BEGIN:VCALENDAR
PRODID:-//kirchenweb.ch gmbh//veranstaltungsausgabe v2.0//DE
VERSION:2.0
METHOD:PUBLISH
BEGIN:VEVENT
DTSTART:20260311T090000Z
DTEND:20260311T091000Z
LOCATION:Kirchgemeindehaus Zollikerberg\, Hohfurenstr. 1\, 8125
  Zollikerberg
TRANSP:OPAQUE
SEQUENCE:0
UID:64721-veranstaltung@ref-zozu.ch
DTSTAMP:20260226T160742Z
DESCRIPTION:Kontakt: Peter Lissa\nTel: 044 391 50 20 / 078 401 21 68\n
 \nWeitere Infos: https://www.ref-zozu.ch/veranstaltung/64721
SUMMARY:ABGESAGT!!!Fastenwoche
PRIORITY:5
X-MICROSOFT-CDO-IMPORTANCE:1
CLASS:PUBLIC
END:VEVENT
END:VCALENDAR
