BEGIN:VCALENDAR
PRODID:-//kirchenweb.ch gmbh//veranstaltungsausgabe v2.0//DE
VERSION:2.0
METHOD:PUBLISH
BEGIN:VEVENT
DTSTART:20261206T170000Z
DTEND:20261206T180000Z
LOCATION:Kirche Zollikerberg\, Hohfurenstr. 1\, 8125 Zollikerberg
TRANSP:OPAQUE
SEQUENCE:0
UID:64733-veranstaltung@ref-zozu.ch
DTSTAMP:20260112T075020Z
DESCRIPTION:17.30 Uhr Bar offen\, \n18.00 Uhr yellow church\ndanach Bier\,
  Prosecco & Bretzel\n\n\nKontakt: Simon Gebs\n\nWeitere Infos:
  https://www.ref-zozu.ch/veranstaltung/64733
SUMMARY:yellow church
PRIORITY:5
X-MICROSOFT-CDO-IMPORTANCE:1
CLASS:PUBLIC
END:VEVENT
END:VCALENDAR
