BEGIN:VCALENDAR
PRODID:-//kirchenweb.ch gmbh//veranstaltungsausgabe v2.0//DE
VERSION:2.0
METHOD:PUBLISH
BEGIN:VEVENT
DTSTART:20260425T161500Z
DTEND:20260425T171500Z
LOCATION:Kirche Zollikon\, Rösslirain 2\, 8702 Zollikon
TRANSP:OPAQUE
SEQUENCE:0
UID:64738-veranstaltung@ref-zozu.ch
DTSTAMP:20260409T131858Z
DESCRIPTION:Was ist Heimat? Ist es der Ort der Geburt\, das Elternhaus?
  Oder ist Heimat weit mehr als ein örtlicher Begriff? In der Licht &
  Klang-Feier Ende April wird sich Pfrn. Anne-Käthi Rüegg-Schweizer mit
  dem Thema Heimat auseinandersetzen.\nMusikalisch werden Samuel Zünd
  (Bariton)\, Julia Schiwowa (Sopran) und Jasmine Vollmer (Harfe und Orgel)
  mit Züriliedern die Feier bereichern.\nZum Ausklang sind alle zu Brot\,
  Wein oder Saft eingeladen.\n\nChilebus\n17.50 - Zumikon\, Prima\n18.00 -
  Zollikerberg\, Hohfurenstr. 1\n18.10 - Zollikon\, Parkplatz alte Landstr.
  76\nRückfahrt 20.00 Uhr\n\nKontakt: Anne-Käthi Rüegg-Schweizer\n
 \nWeitere Infos: https://www.ref-zozu.ch/veranstaltung/64738
SUMMARY:Licht & Klang-Abendfeier «Heimat»
PRIORITY:5
X-MICROSOFT-CDO-IMPORTANCE:1
CLASS:PUBLIC
END:VEVENT
END:VCALENDAR
