BEGIN:VCALENDAR
PRODID:-//kirchenweb.ch gmbh//veranstaltungsausgabe v2.0//DE
VERSION:2.0
METHOD:PUBLISH
BEGIN:VEVENT
DTSTART:20260823T081500Z
DTEND:20260823T091500Z
LOCATION:Kirche Zumikon\, Unterdorfstrasse 4\, 8126 Zumikon
TRANSP:OPAQUE
SEQUENCE:0
UID:64751-veranstaltung@ref-zozu.ch
DTSTAMP:20260212T123206Z
DESCRIPTION:möglicher Tauftermin\n\nChilebus:\n09.50 - Zollikon\,
  Parkplatz alte Landstr. 76\n10.00 - Zollikerberg\, Hohfurenstrasse 1
 \n10.10 - Zumikon\, Prima\nRückfahrt 12.00 Uhr\n\n\nKontakt: Simon Gebs\n
 \nWeitere Infos: https://www.ref-zozu.ch/veranstaltung/64751
SUMMARY:Gottesdienst
PRIORITY:5
X-MICROSOFT-CDO-IMPORTANCE:1
CLASS:PUBLIC
END:VEVENT
END:VCALENDAR
