BEGIN:VCALENDAR
PRODID:-//kirchenweb.ch gmbh//veranstaltungsausgabe v2.0//DE
VERSION:2.0
METHOD:PUBLISH
BEGIN:VEVENT
DTSTART:20261025T091500Z
DTEND:20261025T101500Z
LOCATION:Kirche Zumikon\, Unterdorfstrasse 4\, 8126 Zumikon
TRANSP:OPAQUE
SEQUENCE:0
UID:64754-veranstaltung@ref-zozu.ch
DTSTAMP:20260212T121646Z
DESCRIPTION:möglicher Tauftermin\n\nChilebus:\n09.50 - Zollikon\,
  Parkplatz alte Landstr. 76\n10.00 - Zollikerberg\, Hohfurenstrasse 1
 \n10.10 - Zumikon\, Prima\nRückfahrt 12.00 Uhr\n\n\nKontakt: Simon Gebs\n
 \nWeitere Infos: https://www.ref-zozu.ch/veranstaltung/64754
SUMMARY:Gottesdienst
PRIORITY:5
X-MICROSOFT-CDO-IMPORTANCE:1
CLASS:PUBLIC
END:VEVENT
END:VCALENDAR
