BEGIN:VCALENDAR
PRODID:-//kirchenweb.ch gmbh//veranstaltungsausgabe v2.0//DE
VERSION:2.0
METHOD:PUBLISH
BEGIN:VEVENT
DTSTART:20260628T081500Z
DTEND:20260628T091500Z
LOCATION:Kirche Zollikon\, Rösslirain 2\, 8702 Zollikon
TRANSP:OPAQUE
SEQUENCE:0
UID:64756-veranstaltung@ref-zozu.ch
DTSTAMP:20260212T131205Z
DESCRIPTION:mit Abendmahl\n\nChilebus\n09.50 - Zumikon\, Prima\n10.00 -
  Zollikerberg\, Hohfurenstr. 1\n10.10 - Zollikon\, Parkplatz alte Landstr.
  76\nRückfahrt 12.00 Uhr\n\n\nKontakt: Simon Gebs mit ganzem Pfarrteam
  Zollikon-Zumikon\n\nWeitere Infos:
  https://www.ref-zozu.ch/veranstaltung/64756
SUMMARY:Gottesdienst mit Verabschiedung der alten und Begrüssung der
  neuen Kirchenpflege-Mitgliedern
PRIORITY:5
X-MICROSOFT-CDO-IMPORTANCE:1
CLASS:PUBLIC
END:VEVENT
END:VCALENDAR
