BEGIN:VCALENDAR
PRODID:-//kirchenweb.ch gmbh//veranstaltungsausgabe v2.0//DE
VERSION:2.0
METHOD:PUBLISH
BEGIN:VEVENT
DTSTART:20261213T091500Z
DTEND:20261213T101500Z
LOCATION:Kirche Zollikon\, Rösslirain 2\, 8702 Zollikon
TRANSP:OPAQUE
SEQUENCE:0
UID:64759-veranstaltung@ref-zozu.ch
DTSTAMP:20260212T111458Z
DESCRIPTION:möglicher Tauftermin\n\nChilebus\n09.50 - Zumikon\, Prima
 \n10.00 - Zollikerberg\, Hohfurenstr. 1\n10.10 - Zollikon\, Parkplatz alte
  Landstr. 76\nRückfahrt 12.00 Uhr\n\n\nKontakt: Martin Günthardt\n
 \nWeitere Infos: https://www.ref-zozu.ch/veranstaltung/64759
SUMMARY:Gottesdienst mit Blaskapelle Goldküste
PRIORITY:5
X-MICROSOFT-CDO-IMPORTANCE:1
CLASS:PUBLIC
END:VEVENT
END:VCALENDAR
