BEGIN:VCALENDAR
PRODID:-//kirchenweb.ch gmbh//veranstaltungsausgabe v2.0//DE
VERSION:2.0
METHOD:PUBLISH
BEGIN:VEVENT
DTSTART:20260201T091500Z
DTEND:20260201T101500Z
LOCATION:Kirche Zollikon\, Rösslirain 2\, 8702 Zollikon
TRANSP:OPAQUE
SEQUENCE:0
UID:64767-veranstaltung@ref-zozu.ch
DTSTAMP:20260126T065031Z
DESCRIPTION:möglicher Tauftermin\n\nKontakt: Diana Päpcke\n\nWeitere
  Infos: https://www.ref-zozu.ch/veranstaltung/64767
SUMMARY:Familiengottesdienst zur Tauferinnerung mit minichile
PRIORITY:5
X-MICROSOFT-CDO-IMPORTANCE:1
CLASS:PUBLIC
END:VEVENT
END:VCALENDAR
