BEGIN:VCALENDAR
PRODID:-//kirchenweb.ch gmbh//veranstaltungsausgabe v2.0//DE
VERSION:2.0
METHOD:PUBLISH
BEGIN:VEVENT
DTSTART:20260306T140000Z
DTEND:20260306T150000Z
LOCATION:Kirche Gesundheitswelt (ehemals Diakoniewerk Neumünster)\,
  Neuweg 16\, 8125  Zollikerberg
TRANSP:OPAQUE
SEQUENCE:0
UID:64768-veranstaltung@ref-zozu.ch
DTSTAMP:20260112T081025Z
DESCRIPTION:Karin Huber & Team\n\nanschliessend Zvieri\n\nKontakt:
  barbara.faigle@ref-zozu.ch\n\nWeitere Infos:
  https://www.ref-zozu.ch/veranstaltung/64768
SUMMARY:Gottesdienst zum Weltgebetstag
PRIORITY:5
X-MICROSOFT-CDO-IMPORTANCE:1
CLASS:PUBLIC
END:VEVENT
END:VCALENDAR
