BEGIN:VCALENDAR
PRODID:-//kirchenweb.ch gmbh//veranstaltungsausgabe v2.0//DE
VERSION:2.0
METHOD:PUBLISH
BEGIN:VEVENT
DTSTART:20260514T074500Z
DTEND:20260514T084500Z
LOCATION:Kirche Gesundheitswelt (ehemals Diakoniewerk Neumünster)\,
  Neuweg 16\, 8125  Zollikerberg
TRANSP:OPAQUE
SEQUENCE:0
UID:64772-veranstaltung@ref-zozu.ch
DTSTAMP:20260409T135847Z
DESCRIPTION:Auch dieses Jahr laden die Gesundheitswelt Zollikerberg und
  die reformierte Kirchgemeinde zum gemeinsamen Gottesdienst an Auffahrt
  ein.\nThematisch im Zentrum steht dabei ein Abschiedsgebet von Jesus mit
  der Bitte: «Ich bitte dich\, dass sie alle eins seien» (Johannes 17) -
  Angesichts der aktuellen Weltlage und auch der zunehmenden Polarisierung
  und Dialogunfähigkeit unter uns ein leider zeitloses Anliegen.\n
 \nPfarrerin Helke Döls und Pfarrer Simon Gebs nehmen die Herausforderung
  an und laden die Anwesenden ein\, dieses jesuanische Gebet für unsere
  Zeit fruchtbar zu machen.\nFür musikalische Akzente sorgt der
  Frauenjodelchor Embrach zusammen mit der Kirchenmusikerin Jasmine
  Vollmer.\n\nanschliessend Apéro\n\nKontakt: Helke Döls und Simon Gebs\n
 \nWeitere Infos: https://www.ref-zozu.ch/veranstaltung/64772
SUMMARY:Gemeinsamer Auffahrtsgottesdienst in der Gesundheitswelt
PRIORITY:5
X-MICROSOFT-CDO-IMPORTANCE:1
CLASS:PUBLIC
END:VEVENT
END:VCALENDAR
