BEGIN:VCALENDAR
PRODID:-//kirchenweb.ch gmbh//veranstaltungsausgabe v2.0//DE
VERSION:2.0
METHOD:PUBLISH
BEGIN:VEVENT
DTSTART:20260607T081500Z
DTEND:20260607T091500Z
LOCATION:Kirche Zollikon\, Rösslirain 2\, 8702 Zollikon
TRANSP:OPAQUE
SEQUENCE:0
UID:64774-veranstaltung@ref-zozu.ch
DTSTAMP:20260204T143932Z
DESCRIPTION:anschliessend Apéro\n\nKontakt: Martin Günthardt\n\nWeitere
  Infos: https://www.ref-zozu.ch/veranstaltung/64774
SUMMARY:Konfirmations Gottesdienst Zollikon
PRIORITY:5
X-MICROSOFT-CDO-IMPORTANCE:1
CLASS:PUBLIC
END:VEVENT
END:VCALENDAR
