BEGIN:VCALENDAR
PRODID:-//kirchenweb.ch gmbh//veranstaltungsausgabe v2.0//DE
VERSION:2.0
METHOD:PUBLISH
BEGIN:VEVENT
DTSTART:20261224T213000Z
DTEND:20261224T223000Z
LOCATION:Kirche Zollikon\, Rösslirain 2\, 8702 Zollikon
TRANSP:OPAQUE
SEQUENCE:0
UID:64781-veranstaltung@ref-zozu.ch
DTSTAMP:20260112T074458Z
DESCRIPTION:anschliessend Glühwein an der Feuerschale\n\nKontakt: Martin
  Günthardt\n\nWeitere Infos: https://www.ref-zozu.ch/veranstaltung/64781
SUMMARY:Christnachtfeier
PRIORITY:5
X-MICROSOFT-CDO-IMPORTANCE:1
CLASS:PUBLIC
END:VEVENT
END:VCALENDAR
