BEGIN:VCALENDAR
PRODID:-//kirchenweb.ch gmbh//veranstaltungsausgabe v2.0//DE
VERSION:2.0
METHOD:PUBLISH
BEGIN:VEVENT
DTSTART:20261225T050000Z
DTEND:20261225T060000Z
LOCATION:Forchbahnstation Zollikerberg\, \, 8125 Zollikerberg
TRANSP:OPAQUE
SEQUENCE:0
UID:64782-veranstaltung@ref-zozu.ch
DTSTAMP:20250620T123234Z
DESCRIPTION:6.00 Uhr\, Treffpunkt: Forchbahnstation Zollikerberg\n7.15
  Uhr\, Treffpunkt: Zwischenhalt Diakoniewerk Neumünster\,
  Schwesternpforte\nUnser Rundgang führt uns kreuz und quer durch den
  Zollikerberg und seine Quartiere.\n\nIm Anschluss ca.8.30 Uhr sind alle
  im Restaurant Neumünster Park Zollikerberg zum Zmorgen eingeladen.\n
 \nKontakt: Diana Päpcke\n\nWeitere Infos:
  https://www.ref-zozu.ch/veranstaltung/64782
SUMMARY:Weihnachtssingen mit Zmorge
PRIORITY:5
X-MICROSOFT-CDO-IMPORTANCE:1
CLASS:PUBLIC
END:VEVENT
END:VCALENDAR
