BEGIN:VCALENDAR
PRODID:-//kirchenweb.ch gmbh//veranstaltungsausgabe v2.0//DE
VERSION:2.0
METHOD:PUBLISH
BEGIN:VEVENT
DTSTART:20261231T160000Z
DTEND:20261231T170000Z
LOCATION:Kirche Zumikon\, Unterdorfstrasse 4\, 8126 Zumikon
TRANSP:OPAQUE
SEQUENCE:0
UID:64785-veranstaltung@ref-zozu.ch
DTSTAMP:20260112T074936Z
DESCRIPTION:anschliessend Apéro \n\nKontakt: Adelheid Jewanski\n\nWeitere
  Infos: https://www.ref-zozu.ch/veranstaltung/64785
SUMMARY:ök. Gottesdienst zum Silvester
PRIORITY:5
X-MICROSOFT-CDO-IMPORTANCE:1
CLASS:PUBLIC
END:VEVENT
END:VCALENDAR
