BEGIN:VCALENDAR
PRODID:-//kirchenweb.ch gmbh//veranstaltungsausgabe v2.0//DE
VERSION:2.0
METHOD:PUBLISH
BEGIN:VEVENT
DTSTART:20251125T173000Z
DTEND:20251125T190000Z
LOCATION:Kirchgemeindehaus Zollikon\, Rösslirain 2\, 8702 Zollikon
TRANSP:OPAQUE
SEQUENCE:0
UID:64796-veranstaltung@ref-zozu.ch
DTSTAMP:20251008T113923Z
DESCRIPTION:Kontakt: Martin Günthardt\n\nWeitere Infos:
  https://www.ref-zozu.ch/veranstaltung/64796
SUMMARY:Konfunti_Zollikon
PRIORITY:5
X-MICROSOFT-CDO-IMPORTANCE:1
CLASS:PUBLIC
END:VEVENT
END:VCALENDAR
