BEGIN:VCALENDAR
PRODID:-//kirchenweb.ch gmbh//veranstaltungsausgabe v2.0//DE
VERSION:2.0
METHOD:PUBLISH
BEGIN:VEVENT
DTSTART:20260317T173000Z
DTEND:20260317T190000Z
LOCATION:Kirchgemeindehaus Zollikon\, Rösslirain 2\, 8702 Zollikon
TRANSP:OPAQUE
SEQUENCE:0
UID:64804-veranstaltung@ref-zozu.ch
DTSTAMP:20260211T141214Z
DESCRIPTION:Kontakt: Martin Günthardt\n\nWeitere Infos:
  https://www.ref-zozu.ch/veranstaltung/64804
SUMMARY:Konfunti_Zollikon
PRIORITY:5
X-MICROSOFT-CDO-IMPORTANCE:1
CLASS:PUBLIC
END:VEVENT
END:VCALENDAR
