BEGIN:VCALENDAR
PRODID:-//kirchenweb.ch gmbh//veranstaltungsausgabe v2.0//DE
VERSION:2.0
METHOD:PUBLISH
BEGIN:VEVENT
DTSTART:20251126T173000Z
DTEND:20251126T190000Z
LOCATION:Gemeinschaftszentrum Zumikon\, Dorfplatz 11\, 8126 Zumikon
TRANSP:OPAQUE
SEQUENCE:0
UID:64815-veranstaltung@ref-zozu.ch
DTSTAMP:20251008T114229Z
DESCRIPTION:Kontakt: Martin Günthardt\n\nWeitere Infos:
  https://www.ref-zozu.ch/veranstaltung/64815
SUMMARY:Konfunti_Zumikon
PRIORITY:5
X-MICROSOFT-CDO-IMPORTANCE:1
CLASS:PUBLIC
END:VEVENT
END:VCALENDAR
