BEGIN:VCALENDAR
PRODID:-//kirchenweb.ch gmbh//veranstaltungsausgabe v2.0//DE
VERSION:2.0
METHOD:PUBLISH
BEGIN:VEVENT
DTSTART:20260304T173000Z
DTEND:20260304T190000Z
LOCATION:Gemeinschaftszentrum Zumikon\, Dorfplatz 11\, 8126 Zumikon
TRANSP:OPAQUE
SEQUENCE:0
UID:64820-veranstaltung@ref-zozu.ch
DTSTAMP:20260211T134854Z
DESCRIPTION:Kontakt: Martin Günthardt\n\nWeitere Infos:
  https://www.ref-zozu.ch/veranstaltung/64820
SUMMARY:Konfunti_Zumikon
PRIORITY:5
X-MICROSOFT-CDO-IMPORTANCE:1
CLASS:PUBLIC
END:VEVENT
END:VCALENDAR
