BEGIN:VCALENDAR
PRODID:-//kirchenweb.ch gmbh//veranstaltungsausgabe v2.0//DE
VERSION:2.0
METHOD:PUBLISH
BEGIN:VEVENT
DTSTART:20260225T163000Z
DTEND:20260225T183000Z
LOCATION:Kirchgemeindehaus Zollikerberg\, Hohfurenstr. 1\, 8125
  Zollikerberg
TRANSP:OPAQUE
SEQUENCE:0
UID:64863-veranstaltung@ref-zozu.ch
DTSTAMP:20260115T103144Z
DESCRIPTION:Kontakt: Fiona Kauer\n\nWeitere Infos:
  https://www.ref-zozu.ch/veranstaltung/64863
SUMMARY:Club 5
PRIORITY:5
X-MICROSOFT-CDO-IMPORTANCE:1
CLASS:PUBLIC
END:VEVENT
END:VCALENDAR
