BEGIN:VCALENDAR
PRODID:-//kirchenweb.ch gmbh//veranstaltungsausgabe v2.0//DE
VERSION:2.0
METHOD:PUBLISH
BEGIN:VEVENT
DTSTART:20260325T163000Z
DTEND:20260325T183000Z
LOCATION:Kirchgemeindehaus Zollikon\, Rösslirain 2\, 8702 Zollikon
TRANSP:OPAQUE
SEQUENCE:0
UID:64864-veranstaltung@ref-zozu.ch
DTSTAMP:20260211T152153Z
DESCRIPTION:Kontakt: Fiona Kauer\n\nWeitere Infos:
  https://www.ref-zozu.ch/veranstaltung/64864
SUMMARY:Club 5
PRIORITY:5
X-MICROSOFT-CDO-IMPORTANCE:1
CLASS:PUBLIC
END:VEVENT
END:VCALENDAR
